BEGIN:VCALENDAR
VERSION:2.0
PRODID:-//85.13.162.52//NONSGML kigkonsult.se iCalcreator 2.20//
CALSCALE:GREGORIAN
METHOD:PUBLISH
X-WR-TIMEZONE:Europe/Berlin
BEGIN:VEVENT
UID:event309@Claudia's Schmuck Design (C-MoDe)
DTSTAMP:20260420T094057Z
CATEGORIES:Kunst-/Handwerkermarkt
DESCRIPTION:Rheinland-Pfalz-Ausstellung\nCategory: Kunst-/Handwerkermarkt\n
 Link: https://c-mode.de/index.php?option=com_jem&view=event&id=309:Messepa
 rkMainz-Hechtsheim_Mainz\n
DTSTART;VALUE=DATE:20250326
DTEND;VALUE=DATE:20250331
LOCATION:Messepark Mainz-Hechtsheim\,Genfer Allee\,55129 Mainz
SUMMARY:Rheinland-Pfalz-Ausstellung
URL:https://c-mode.de/index.php?option=com_jem&view=event&id=309:MesseparkM
 ainz-Hechtsheim_Mainz
END:VEVENT
END:VCALENDAR